BEGIN:VCALENDAR
VERSION:2.0
PRODID:-//ParkinsonVRmove - ECPv6.15.20//NONSGML v1.0//EN
CALSCALE:GREGORIAN
METHOD:PUBLISH
X-ORIGINAL-URL:https://preprod.parkinsonvrmove.ch
X-WR-CALDESC:Évènements pour ParkinsonVRmove
REFRESH-INTERVAL;VALUE=DURATION:PT1H
X-Robots-Tag:noindex
X-PUBLISHED-TTL:PT1H
BEGIN:VTIMEZONE
TZID:Europe/Paris
BEGIN:DAYLIGHT
TZOFFSETFROM:+0100
TZOFFSETTO:+0200
TZNAME:CEST
DTSTART:20270328T010000
END:DAYLIGHT
BEGIN:STANDARD
TZOFFSETFROM:+0200
TZOFFSETTO:+0100
TZNAME:CET
DTSTART:20271031T010000
END:STANDARD
BEGIN:DAYLIGHT
TZOFFSETFROM:+0100
TZOFFSETTO:+0200
TZNAME:CEST
DTSTART:20280326T010000
END:DAYLIGHT
BEGIN:STANDARD
TZOFFSETFROM:+0200
TZOFFSETTO:+0100
TZNAME:CET
DTSTART:20281029T010000
END:STANDARD
BEGIN:DAYLIGHT
TZOFFSETFROM:+0100
TZOFFSETTO:+0200
TZNAME:CEST
DTSTART:20290325T010000
END:DAYLIGHT
BEGIN:STANDARD
TZOFFSETFROM:+0200
TZOFFSETTO:+0100
TZNAME:CET
DTSTART:20291028T010000
END:STANDARD
END:VTIMEZONE
BEGIN:VEVENT
DTSTART;TZID=Europe/Paris:20280802T083000
DTEND;TZID=Europe/Paris:20280802T103000
DTSTAMP:20260423T000430
CREATED:20260316T135255Z
LAST-MODIFIED:20260326T083928Z
UID:10000380-1848817800-1848825000@preprod.parkinsonvrmove.ch
SUMMARY:ParkinsonVRMove
DESCRIPTION:Espace de quartier Pâquis
URL:https://preprod.parkinsonvrmove.ch/event/parkinsonvrmove/2028-08-02/
LOCATION:Espace de Quartier Pâquis\, rue Jean-Charles-Amat 6\, Geneve\, 1200\, Switzerland
CATEGORIES:VR
ATTACH;FMTTYPE=image/png:https://preprod.parkinsonvrmove.ch/wp-content/uploads/2026/03/cropped-cropped-250713-Favicon-96x96-1-1.png
END:VEVENT
BEGIN:VEVENT
DTSTART;TZID=Europe/Paris:20280803T100000
DTEND;TZID=Europe/Paris:20280803T170000
DTSTAMP:20260423T000430
CREATED:20260316T140035Z
LAST-MODIFIED:20260317T135542Z
UID:10000120-1848909600-1848934800@preprod.parkinsonvrmove.ch
SUMMARY:HUG  journée Parkinson
DESCRIPTION:À l’occasion de la Journée mondiale de la maladie de Parkinson\, le Service de neurologie des HUG vous convie\, en collaboration avec des personnes touchées par la maladie\, à une journée de conférences\, témoignages et ateliers.
URL:https://preprod.parkinsonvrmove.ch/event/hug-journee-parkinson/2028-08-03/
LOCATION:hug\, auditoire Marcel Jenny
CATEGORIES:Evenement
ATTACH;FMTTYPE=image/png:https://preprod.parkinsonvrmove.ch/wp-content/uploads/2026/03/csm_HUG_2026_96b3f4914b.png
END:VEVENT
BEGIN:VEVENT
DTSTART;TZID=Europe/Paris:20280803T113000
DTEND;TZID=Europe/Paris:20280803T123000
DTSTAMP:20260423T000430
CREATED:20260326T083136Z
LAST-MODIFIED:20260326T083136Z
UID:10000641-1848915000-1848918600@preprod.parkinsonvrmove.ch
SUMMARY:Ping Pong CSS
DESCRIPTION:Au club CSS Chênois \, réservé aux membres
URL:https://preprod.parkinsonvrmove.ch/event/ping-pong-css-2/2028-08-03/
LOCATION:CTT UGS-Chenois\, Rte de Frontenex 68\,\, Genève\, 1207\, Switzerland
CATEGORIES:Pingpong
ATTACH;FMTTYPE=image/jpeg:https://preprod.parkinsonvrmove.ch/wp-content/uploads/2026/03/250725-Tennis-Table-for-others-1024x683-1.jpg
END:VEVENT
BEGIN:VEVENT
DTSTART;TZID=Europe/Paris:20280809T083000
DTEND;TZID=Europe/Paris:20280809T103000
DTSTAMP:20260423T000430
CREATED:20260316T135255Z
LAST-MODIFIED:20260326T083928Z
UID:10000381-1849422600-1849429800@preprod.parkinsonvrmove.ch
SUMMARY:ParkinsonVRMove
DESCRIPTION:Espace de quartier Pâquis
URL:https://preprod.parkinsonvrmove.ch/event/parkinsonvrmove/2028-08-09/
LOCATION:Espace de Quartier Pâquis\, rue Jean-Charles-Amat 6\, Geneve\, 1200\, Switzerland
CATEGORIES:VR
ATTACH;FMTTYPE=image/png:https://preprod.parkinsonvrmove.ch/wp-content/uploads/2026/03/cropped-cropped-250713-Favicon-96x96-1-1.png
END:VEVENT
BEGIN:VEVENT
DTSTART;TZID=Europe/Paris:20280810T100000
DTEND;TZID=Europe/Paris:20280810T170000
DTSTAMP:20260423T000430
CREATED:20260316T140035Z
LAST-MODIFIED:20260317T135542Z
UID:10000121-1849514400-1849539600@preprod.parkinsonvrmove.ch
SUMMARY:HUG  journée Parkinson
DESCRIPTION:À l’occasion de la Journée mondiale de la maladie de Parkinson\, le Service de neurologie des HUG vous convie\, en collaboration avec des personnes touchées par la maladie\, à une journée de conférences\, témoignages et ateliers.
URL:https://preprod.parkinsonvrmove.ch/event/hug-journee-parkinson/2028-08-10/
LOCATION:hug\, auditoire Marcel Jenny
CATEGORIES:Evenement
ATTACH;FMTTYPE=image/png:https://preprod.parkinsonvrmove.ch/wp-content/uploads/2026/03/csm_HUG_2026_96b3f4914b.png
END:VEVENT
BEGIN:VEVENT
DTSTART;TZID=Europe/Paris:20280810T113000
DTEND;TZID=Europe/Paris:20280810T123000
DTSTAMP:20260423T000430
CREATED:20260326T083136Z
LAST-MODIFIED:20260326T083136Z
UID:10000642-1849519800-1849523400@preprod.parkinsonvrmove.ch
SUMMARY:Ping Pong CSS
DESCRIPTION:Au club CSS Chênois \, réservé aux membres
URL:https://preprod.parkinsonvrmove.ch/event/ping-pong-css-2/2028-08-10/
LOCATION:CTT UGS-Chenois\, Rte de Frontenex 68\,\, Genève\, 1207\, Switzerland
CATEGORIES:Pingpong
ATTACH;FMTTYPE=image/jpeg:https://preprod.parkinsonvrmove.ch/wp-content/uploads/2026/03/250725-Tennis-Table-for-others-1024x683-1.jpg
END:VEVENT
BEGIN:VEVENT
DTSTART;TZID=Europe/Paris:20280816T083000
DTEND;TZID=Europe/Paris:20280816T103000
DTSTAMP:20260423T000430
CREATED:20260316T135255Z
LAST-MODIFIED:20260326T083928Z
UID:10000382-1850027400-1850034600@preprod.parkinsonvrmove.ch
SUMMARY:ParkinsonVRMove
DESCRIPTION:Espace de quartier Pâquis
URL:https://preprod.parkinsonvrmove.ch/event/parkinsonvrmove/2028-08-16/
LOCATION:Espace de Quartier Pâquis\, rue Jean-Charles-Amat 6\, Geneve\, 1200\, Switzerland
CATEGORIES:VR
ATTACH;FMTTYPE=image/png:https://preprod.parkinsonvrmove.ch/wp-content/uploads/2026/03/cropped-cropped-250713-Favicon-96x96-1-1.png
END:VEVENT
BEGIN:VEVENT
DTSTART;TZID=Europe/Paris:20280817T100000
DTEND;TZID=Europe/Paris:20280817T170000
DTSTAMP:20260423T000430
CREATED:20260316T140035Z
LAST-MODIFIED:20260317T135542Z
UID:10000122-1850119200-1850144400@preprod.parkinsonvrmove.ch
SUMMARY:HUG  journée Parkinson
DESCRIPTION:À l’occasion de la Journée mondiale de la maladie de Parkinson\, le Service de neurologie des HUG vous convie\, en collaboration avec des personnes touchées par la maladie\, à une journée de conférences\, témoignages et ateliers.
URL:https://preprod.parkinsonvrmove.ch/event/hug-journee-parkinson/2028-08-17/
LOCATION:hug\, auditoire Marcel Jenny
CATEGORIES:Evenement
ATTACH;FMTTYPE=image/png:https://preprod.parkinsonvrmove.ch/wp-content/uploads/2026/03/csm_HUG_2026_96b3f4914b.png
END:VEVENT
BEGIN:VEVENT
DTSTART;TZID=Europe/Paris:20280817T113000
DTEND;TZID=Europe/Paris:20280817T123000
DTSTAMP:20260423T000430
CREATED:20260326T083136Z
LAST-MODIFIED:20260326T083136Z
UID:10000643-1850124600-1850128200@preprod.parkinsonvrmove.ch
SUMMARY:Ping Pong CSS
DESCRIPTION:Au club CSS Chênois \, réservé aux membres
URL:https://preprod.parkinsonvrmove.ch/event/ping-pong-css-2/2028-08-17/
LOCATION:CTT UGS-Chenois\, Rte de Frontenex 68\,\, Genève\, 1207\, Switzerland
CATEGORIES:Pingpong
ATTACH;FMTTYPE=image/jpeg:https://preprod.parkinsonvrmove.ch/wp-content/uploads/2026/03/250725-Tennis-Table-for-others-1024x683-1.jpg
END:VEVENT
BEGIN:VEVENT
DTSTART;TZID=Europe/Paris:20280823T083000
DTEND;TZID=Europe/Paris:20280823T103000
DTSTAMP:20260423T000430
CREATED:20260316T135255Z
LAST-MODIFIED:20260326T083928Z
UID:10000383-1850632200-1850639400@preprod.parkinsonvrmove.ch
SUMMARY:ParkinsonVRMove
DESCRIPTION:Espace de quartier Pâquis
URL:https://preprod.parkinsonvrmove.ch/event/parkinsonvrmove/2028-08-23/
LOCATION:Espace de Quartier Pâquis\, rue Jean-Charles-Amat 6\, Geneve\, 1200\, Switzerland
CATEGORIES:VR
ATTACH;FMTTYPE=image/png:https://preprod.parkinsonvrmove.ch/wp-content/uploads/2026/03/cropped-cropped-250713-Favicon-96x96-1-1.png
END:VEVENT
BEGIN:VEVENT
DTSTART;TZID=Europe/Paris:20280824T100000
DTEND;TZID=Europe/Paris:20280824T170000
DTSTAMP:20260423T000430
CREATED:20260316T140035Z
LAST-MODIFIED:20260317T135542Z
UID:10000123-1850724000-1850749200@preprod.parkinsonvrmove.ch
SUMMARY:HUG  journée Parkinson
DESCRIPTION:À l’occasion de la Journée mondiale de la maladie de Parkinson\, le Service de neurologie des HUG vous convie\, en collaboration avec des personnes touchées par la maladie\, à une journée de conférences\, témoignages et ateliers.
URL:https://preprod.parkinsonvrmove.ch/event/hug-journee-parkinson/2028-08-24/
LOCATION:hug\, auditoire Marcel Jenny
CATEGORIES:Evenement
ATTACH;FMTTYPE=image/png:https://preprod.parkinsonvrmove.ch/wp-content/uploads/2026/03/csm_HUG_2026_96b3f4914b.png
END:VEVENT
BEGIN:VEVENT
DTSTART;TZID=Europe/Paris:20280824T113000
DTEND;TZID=Europe/Paris:20280824T123000
DTSTAMP:20260423T000430
CREATED:20260326T083136Z
LAST-MODIFIED:20260326T083136Z
UID:10000644-1850729400-1850733000@preprod.parkinsonvrmove.ch
SUMMARY:Ping Pong CSS
DESCRIPTION:Au club CSS Chênois \, réservé aux membres
URL:https://preprod.parkinsonvrmove.ch/event/ping-pong-css-2/2028-08-24/
LOCATION:CTT UGS-Chenois\, Rte de Frontenex 68\,\, Genève\, 1207\, Switzerland
CATEGORIES:Pingpong
ATTACH;FMTTYPE=image/jpeg:https://preprod.parkinsonvrmove.ch/wp-content/uploads/2026/03/250725-Tennis-Table-for-others-1024x683-1.jpg
END:VEVENT
BEGIN:VEVENT
DTSTART;TZID=Europe/Paris:20280830T083000
DTEND;TZID=Europe/Paris:20280830T103000
DTSTAMP:20260423T000430
CREATED:20260316T135255Z
LAST-MODIFIED:20260326T083928Z
UID:10000384-1851237000-1851244200@preprod.parkinsonvrmove.ch
SUMMARY:ParkinsonVRMove
DESCRIPTION:Espace de quartier Pâquis
URL:https://preprod.parkinsonvrmove.ch/event/parkinsonvrmove/2028-08-30/
LOCATION:Espace de Quartier Pâquis\, rue Jean-Charles-Amat 6\, Geneve\, 1200\, Switzerland
CATEGORIES:VR
ATTACH;FMTTYPE=image/png:https://preprod.parkinsonvrmove.ch/wp-content/uploads/2026/03/cropped-cropped-250713-Favicon-96x96-1-1.png
END:VEVENT
BEGIN:VEVENT
DTSTART;TZID=Europe/Paris:20280831T100000
DTEND;TZID=Europe/Paris:20280831T170000
DTSTAMP:20260423T000430
CREATED:20260316T140035Z
LAST-MODIFIED:20260317T135542Z
UID:10000124-1851328800-1851354000@preprod.parkinsonvrmove.ch
SUMMARY:HUG  journée Parkinson
DESCRIPTION:À l’occasion de la Journée mondiale de la maladie de Parkinson\, le Service de neurologie des HUG vous convie\, en collaboration avec des personnes touchées par la maladie\, à une journée de conférences\, témoignages et ateliers.
URL:https://preprod.parkinsonvrmove.ch/event/hug-journee-parkinson/2028-08-31/
LOCATION:hug\, auditoire Marcel Jenny
CATEGORIES:Evenement
ATTACH;FMTTYPE=image/png:https://preprod.parkinsonvrmove.ch/wp-content/uploads/2026/03/csm_HUG_2026_96b3f4914b.png
END:VEVENT
BEGIN:VEVENT
DTSTART;TZID=Europe/Paris:20280831T113000
DTEND;TZID=Europe/Paris:20280831T123000
DTSTAMP:20260423T000430
CREATED:20260326T083136Z
LAST-MODIFIED:20260326T083136Z
UID:10000645-1851334200-1851337800@preprod.parkinsonvrmove.ch
SUMMARY:Ping Pong CSS
DESCRIPTION:Au club CSS Chênois \, réservé aux membres
URL:https://preprod.parkinsonvrmove.ch/event/ping-pong-css-2/2028-08-31/
LOCATION:CTT UGS-Chenois\, Rte de Frontenex 68\,\, Genève\, 1207\, Switzerland
CATEGORIES:Pingpong
ATTACH;FMTTYPE=image/jpeg:https://preprod.parkinsonvrmove.ch/wp-content/uploads/2026/03/250725-Tennis-Table-for-others-1024x683-1.jpg
END:VEVENT
END:VCALENDAR