BEGIN:VCALENDAR
VERSION:2.0
PRODID:-//ParkinsonVRmove - ECPv6.15.20//NONSGML v1.0//EN
CALSCALE:GREGORIAN
METHOD:PUBLISH
X-ORIGINAL-URL:https://preprod.parkinsonvrmove.ch
X-WR-CALDESC:Évènements pour ParkinsonVRmove
REFRESH-INTERVAL;VALUE=DURATION:PT1H
X-Robots-Tag:noindex
X-PUBLISHED-TTL:PT1H
BEGIN:VTIMEZONE
TZID:Europe/Paris
BEGIN:DAYLIGHT
TZOFFSETFROM:+0100
TZOFFSETTO:+0200
TZNAME:CEST
DTSTART:20270328T010000
END:DAYLIGHT
BEGIN:STANDARD
TZOFFSETFROM:+0200
TZOFFSETTO:+0100
TZNAME:CET
DTSTART:20271031T010000
END:STANDARD
BEGIN:DAYLIGHT
TZOFFSETFROM:+0100
TZOFFSETTO:+0200
TZNAME:CEST
DTSTART:20280326T010000
END:DAYLIGHT
BEGIN:STANDARD
TZOFFSETFROM:+0200
TZOFFSETTO:+0100
TZNAME:CET
DTSTART:20281029T010000
END:STANDARD
BEGIN:DAYLIGHT
TZOFFSETFROM:+0100
TZOFFSETTO:+0200
TZNAME:CEST
DTSTART:20290325T010000
END:DAYLIGHT
BEGIN:STANDARD
TZOFFSETFROM:+0200
TZOFFSETTO:+0100
TZNAME:CET
DTSTART:20291028T010000
END:STANDARD
END:VTIMEZONE
BEGIN:VEVENT
DTSTART;TZID=Europe/Paris:20280105T083000
DTEND;TZID=Europe/Paris:20280105T103000
DTSTAMP:20260422T112401
CREATED:20260316T135255Z
LAST-MODIFIED:20260326T083928Z
UID:10000350-1830673800-1830681000@preprod.parkinsonvrmove.ch
SUMMARY:ParkinsonVRMove
DESCRIPTION:Espace de quartier Pâquis
URL:https://preprod.parkinsonvrmove.ch/event/parkinsonvrmove/2028-01-05/
LOCATION:Espace de Quartier Pâquis\, rue Jean-Charles-Amat 6\, Geneve\, 1200\, Switzerland
CATEGORIES:VR
ATTACH;FMTTYPE=image/png:https://preprod.parkinsonvrmove.ch/wp-content/uploads/2026/03/cropped-cropped-250713-Favicon-96x96-1-1.png
END:VEVENT
BEGIN:VEVENT
DTSTART;TZID=Europe/Paris:20280106T100000
DTEND;TZID=Europe/Paris:20280106T170000
DTSTAMP:20260422T112401
CREATED:20260316T140035Z
LAST-MODIFIED:20260317T135542Z
UID:10000090-1830765600-1830790800@preprod.parkinsonvrmove.ch
SUMMARY:HUG  journée Parkinson
DESCRIPTION:À l’occasion de la Journée mondiale de la maladie de Parkinson\, le Service de neurologie des HUG vous convie\, en collaboration avec des personnes touchées par la maladie\, à une journée de conférences\, témoignages et ateliers.
URL:https://preprod.parkinsonvrmove.ch/event/hug-journee-parkinson/2028-01-06/
LOCATION:hug\, auditoire Marcel Jenny
CATEGORIES:Evenement
ATTACH;FMTTYPE=image/png:https://preprod.parkinsonvrmove.ch/wp-content/uploads/2026/03/csm_HUG_2026_96b3f4914b.png
END:VEVENT
BEGIN:VEVENT
DTSTART;TZID=Europe/Paris:20280106T113000
DTEND;TZID=Europe/Paris:20280106T123000
DTSTAMP:20260422T112401
CREATED:20260326T083136Z
LAST-MODIFIED:20260326T083136Z
UID:10000611-1830771000-1830774600@preprod.parkinsonvrmove.ch
SUMMARY:Ping Pong CSS
DESCRIPTION:Au club CSS Chênois \, réservé aux membres
URL:https://preprod.parkinsonvrmove.ch/event/ping-pong-css-2/2028-01-06/
LOCATION:CTT UGS-Chenois\, Rte de Frontenex 68\,\, Genève\, 1207\, Switzerland
CATEGORIES:Pingpong
ATTACH;FMTTYPE=image/jpeg:https://preprod.parkinsonvrmove.ch/wp-content/uploads/2026/03/250725-Tennis-Table-for-others-1024x683-1.jpg
END:VEVENT
BEGIN:VEVENT
DTSTART;TZID=Europe/Paris:20280112T083000
DTEND;TZID=Europe/Paris:20280112T103000
DTSTAMP:20260422T112401
CREATED:20260316T135255Z
LAST-MODIFIED:20260326T083928Z
UID:10000351-1831278600-1831285800@preprod.parkinsonvrmove.ch
SUMMARY:ParkinsonVRMove
DESCRIPTION:Espace de quartier Pâquis
URL:https://preprod.parkinsonvrmove.ch/event/parkinsonvrmove/2028-01-12/
LOCATION:Espace de Quartier Pâquis\, rue Jean-Charles-Amat 6\, Geneve\, 1200\, Switzerland
CATEGORIES:VR
ATTACH;FMTTYPE=image/png:https://preprod.parkinsonvrmove.ch/wp-content/uploads/2026/03/cropped-cropped-250713-Favicon-96x96-1-1.png
END:VEVENT
BEGIN:VEVENT
DTSTART;TZID=Europe/Paris:20280113T100000
DTEND;TZID=Europe/Paris:20280113T170000
DTSTAMP:20260422T112401
CREATED:20260316T140035Z
LAST-MODIFIED:20260317T135542Z
UID:10000091-1831370400-1831395600@preprod.parkinsonvrmove.ch
SUMMARY:HUG  journée Parkinson
DESCRIPTION:À l’occasion de la Journée mondiale de la maladie de Parkinson\, le Service de neurologie des HUG vous convie\, en collaboration avec des personnes touchées par la maladie\, à une journée de conférences\, témoignages et ateliers.
URL:https://preprod.parkinsonvrmove.ch/event/hug-journee-parkinson/2028-01-13/
LOCATION:hug\, auditoire Marcel Jenny
CATEGORIES:Evenement
ATTACH;FMTTYPE=image/png:https://preprod.parkinsonvrmove.ch/wp-content/uploads/2026/03/csm_HUG_2026_96b3f4914b.png
END:VEVENT
BEGIN:VEVENT
DTSTART;TZID=Europe/Paris:20280113T113000
DTEND;TZID=Europe/Paris:20280113T123000
DTSTAMP:20260422T112401
CREATED:20260326T083136Z
LAST-MODIFIED:20260326T083136Z
UID:10000612-1831375800-1831379400@preprod.parkinsonvrmove.ch
SUMMARY:Ping Pong CSS
DESCRIPTION:Au club CSS Chênois \, réservé aux membres
URL:https://preprod.parkinsonvrmove.ch/event/ping-pong-css-2/2028-01-13/
LOCATION:CTT UGS-Chenois\, Rte de Frontenex 68\,\, Genève\, 1207\, Switzerland
CATEGORIES:Pingpong
ATTACH;FMTTYPE=image/jpeg:https://preprod.parkinsonvrmove.ch/wp-content/uploads/2026/03/250725-Tennis-Table-for-others-1024x683-1.jpg
END:VEVENT
BEGIN:VEVENT
DTSTART;TZID=Europe/Paris:20280119T083000
DTEND;TZID=Europe/Paris:20280119T103000
DTSTAMP:20260422T112401
CREATED:20260316T135255Z
LAST-MODIFIED:20260326T083928Z
UID:10000352-1831883400-1831890600@preprod.parkinsonvrmove.ch
SUMMARY:ParkinsonVRMove
DESCRIPTION:Espace de quartier Pâquis
URL:https://preprod.parkinsonvrmove.ch/event/parkinsonvrmove/2028-01-19/
LOCATION:Espace de Quartier Pâquis\, rue Jean-Charles-Amat 6\, Geneve\, 1200\, Switzerland
CATEGORIES:VR
ATTACH;FMTTYPE=image/png:https://preprod.parkinsonvrmove.ch/wp-content/uploads/2026/03/cropped-cropped-250713-Favicon-96x96-1-1.png
END:VEVENT
BEGIN:VEVENT
DTSTART;TZID=Europe/Paris:20280120T100000
DTEND;TZID=Europe/Paris:20280120T170000
DTSTAMP:20260422T112401
CREATED:20260316T140035Z
LAST-MODIFIED:20260317T135542Z
UID:10000092-1831975200-1832000400@preprod.parkinsonvrmove.ch
SUMMARY:HUG  journée Parkinson
DESCRIPTION:À l’occasion de la Journée mondiale de la maladie de Parkinson\, le Service de neurologie des HUG vous convie\, en collaboration avec des personnes touchées par la maladie\, à une journée de conférences\, témoignages et ateliers.
URL:https://preprod.parkinsonvrmove.ch/event/hug-journee-parkinson/2028-01-20/
LOCATION:hug\, auditoire Marcel Jenny
CATEGORIES:Evenement
ATTACH;FMTTYPE=image/png:https://preprod.parkinsonvrmove.ch/wp-content/uploads/2026/03/csm_HUG_2026_96b3f4914b.png
END:VEVENT
BEGIN:VEVENT
DTSTART;TZID=Europe/Paris:20280120T113000
DTEND;TZID=Europe/Paris:20280120T123000
DTSTAMP:20260422T112401
CREATED:20260326T083136Z
LAST-MODIFIED:20260326T083136Z
UID:10000613-1831980600-1831984200@preprod.parkinsonvrmove.ch
SUMMARY:Ping Pong CSS
DESCRIPTION:Au club CSS Chênois \, réservé aux membres
URL:https://preprod.parkinsonvrmove.ch/event/ping-pong-css-2/2028-01-20/
LOCATION:CTT UGS-Chenois\, Rte de Frontenex 68\,\, Genève\, 1207\, Switzerland
CATEGORIES:Pingpong
ATTACH;FMTTYPE=image/jpeg:https://preprod.parkinsonvrmove.ch/wp-content/uploads/2026/03/250725-Tennis-Table-for-others-1024x683-1.jpg
END:VEVENT
BEGIN:VEVENT
DTSTART;TZID=Europe/Paris:20280126T083000
DTEND;TZID=Europe/Paris:20280126T103000
DTSTAMP:20260422T112401
CREATED:20260316T135255Z
LAST-MODIFIED:20260326T083928Z
UID:10000353-1832488200-1832495400@preprod.parkinsonvrmove.ch
SUMMARY:ParkinsonVRMove
DESCRIPTION:Espace de quartier Pâquis
URL:https://preprod.parkinsonvrmove.ch/event/parkinsonvrmove/2028-01-26/
LOCATION:Espace de Quartier Pâquis\, rue Jean-Charles-Amat 6\, Geneve\, 1200\, Switzerland
CATEGORIES:VR
ATTACH;FMTTYPE=image/png:https://preprod.parkinsonvrmove.ch/wp-content/uploads/2026/03/cropped-cropped-250713-Favicon-96x96-1-1.png
END:VEVENT
BEGIN:VEVENT
DTSTART;TZID=Europe/Paris:20280127T100000
DTEND;TZID=Europe/Paris:20280127T170000
DTSTAMP:20260422T112401
CREATED:20260316T140035Z
LAST-MODIFIED:20260317T135542Z
UID:10000093-1832580000-1832605200@preprod.parkinsonvrmove.ch
SUMMARY:HUG  journée Parkinson
DESCRIPTION:À l’occasion de la Journée mondiale de la maladie de Parkinson\, le Service de neurologie des HUG vous convie\, en collaboration avec des personnes touchées par la maladie\, à une journée de conférences\, témoignages et ateliers.
URL:https://preprod.parkinsonvrmove.ch/event/hug-journee-parkinson/2028-01-27/
LOCATION:hug\, auditoire Marcel Jenny
CATEGORIES:Evenement
ATTACH;FMTTYPE=image/png:https://preprod.parkinsonvrmove.ch/wp-content/uploads/2026/03/csm_HUG_2026_96b3f4914b.png
END:VEVENT
BEGIN:VEVENT
DTSTART;TZID=Europe/Paris:20280127T113000
DTEND;TZID=Europe/Paris:20280127T123000
DTSTAMP:20260422T112401
CREATED:20260326T083136Z
LAST-MODIFIED:20260326T083136Z
UID:10000614-1832585400-1832589000@preprod.parkinsonvrmove.ch
SUMMARY:Ping Pong CSS
DESCRIPTION:Au club CSS Chênois \, réservé aux membres
URL:https://preprod.parkinsonvrmove.ch/event/ping-pong-css-2/2028-01-27/
LOCATION:CTT UGS-Chenois\, Rte de Frontenex 68\,\, Genève\, 1207\, Switzerland
CATEGORIES:Pingpong
ATTACH;FMTTYPE=image/jpeg:https://preprod.parkinsonvrmove.ch/wp-content/uploads/2026/03/250725-Tennis-Table-for-others-1024x683-1.jpg
END:VEVENT
END:VCALENDAR