BEGIN:VCALENDAR
VERSION:2.0
PRODID:-//ParkinsonVRmove - ECPv6.15.20//NONSGML v1.0//EN
CALSCALE:GREGORIAN
METHOD:PUBLISH
X-WR-CALNAME:ParkinsonVRmove
X-ORIGINAL-URL:https://preprod.parkinsonvrmove.ch
X-WR-CALDESC:Évènements pour ParkinsonVRmove
REFRESH-INTERVAL;VALUE=DURATION:PT1H
X-Robots-Tag:noindex
X-PUBLISHED-TTL:PT1H
BEGIN:VTIMEZONE
TZID:Europe/Paris
BEGIN:DAYLIGHT
TZOFFSETFROM:+0100
TZOFFSETTO:+0200
TZNAME:CEST
DTSTART:20260329T010000
END:DAYLIGHT
BEGIN:STANDARD
TZOFFSETFROM:+0200
TZOFFSETTO:+0100
TZNAME:CET
DTSTART:20261025T010000
END:STANDARD
BEGIN:DAYLIGHT
TZOFFSETFROM:+0100
TZOFFSETTO:+0200
TZNAME:CEST
DTSTART:20270328T010000
END:DAYLIGHT
BEGIN:STANDARD
TZOFFSETFROM:+0200
TZOFFSETTO:+0100
TZNAME:CET
DTSTART:20271031T010000
END:STANDARD
BEGIN:DAYLIGHT
TZOFFSETFROM:+0100
TZOFFSETTO:+0200
TZNAME:CEST
DTSTART:20280326T010000
END:DAYLIGHT
BEGIN:STANDARD
TZOFFSETFROM:+0200
TZOFFSETTO:+0100
TZNAME:CET
DTSTART:20281029T010000
END:STANDARD
END:VTIMEZONE
BEGIN:VEVENT
DTSTART;TZID=Europe/Paris:20271201T083000
DTEND;TZID=Europe/Paris:20271201T103000
DTSTAMP:20260420T084557
CREATED:20260316T135255Z
LAST-MODIFIED:20260326T083928Z
UID:10000345-1827649800-1827657000@preprod.parkinsonvrmove.ch
SUMMARY:ParkinsonVRMove
DESCRIPTION:Espace de quartier Pâquis
URL:https://preprod.parkinsonvrmove.ch/event/parkinsonvrmove/2027-12-01/
LOCATION:Espace de Quartier Pâquis\, rue Jean-Charles-Amat 6\, Geneve\, 1200\, Switzerland
CATEGORIES:VR
ATTACH;FMTTYPE=image/png:https://preprod.parkinsonvrmove.ch/wp-content/uploads/2026/03/cropped-cropped-250713-Favicon-96x96-1-1.png
END:VEVENT
BEGIN:VEVENT
DTSTART;TZID=Europe/Paris:20271202T100000
DTEND;TZID=Europe/Paris:20271202T170000
DTSTAMP:20260420T084557
CREATED:20260316T140035Z
LAST-MODIFIED:20260317T135542Z
UID:10000085-1827741600-1827766800@preprod.parkinsonvrmove.ch
SUMMARY:HUG  journée Parkinson
DESCRIPTION:À l’occasion de la Journée mondiale de la maladie de Parkinson\, le Service de neurologie des HUG vous convie\, en collaboration avec des personnes touchées par la maladie\, à une journée de conférences\, témoignages et ateliers.
URL:https://preprod.parkinsonvrmove.ch/event/hug-journee-parkinson/2027-12-02/
LOCATION:hug\, auditoire Marcel Jenny
CATEGORIES:Evenement
ATTACH;FMTTYPE=image/png:https://preprod.parkinsonvrmove.ch/wp-content/uploads/2026/03/csm_HUG_2026_96b3f4914b.png
END:VEVENT
BEGIN:VEVENT
DTSTART;TZID=Europe/Paris:20271202T113000
DTEND;TZID=Europe/Paris:20271202T123000
DTSTAMP:20260420T084557
CREATED:20260326T083136Z
LAST-MODIFIED:20260326T083136Z
UID:10000606-1827747000-1827750600@preprod.parkinsonvrmove.ch
SUMMARY:Ping Pong CSS
DESCRIPTION:Au club CSS Chênois \, réservé aux membres
URL:https://preprod.parkinsonvrmove.ch/event/ping-pong-css-2/2027-12-02/
LOCATION:CTT UGS-Chenois\, Rte de Frontenex 68\,\, Genève\, 1207\, Switzerland
CATEGORIES:Pingpong
ATTACH;FMTTYPE=image/jpeg:https://preprod.parkinsonvrmove.ch/wp-content/uploads/2026/03/250725-Tennis-Table-for-others-1024x683-1.jpg
END:VEVENT
BEGIN:VEVENT
DTSTART;TZID=Europe/Paris:20271208T083000
DTEND;TZID=Europe/Paris:20271208T103000
DTSTAMP:20260420T084557
CREATED:20260316T135255Z
LAST-MODIFIED:20260326T083928Z
UID:10000346-1828254600-1828261800@preprod.parkinsonvrmove.ch
SUMMARY:ParkinsonVRMove
DESCRIPTION:Espace de quartier Pâquis
URL:https://preprod.parkinsonvrmove.ch/event/parkinsonvrmove/2027-12-08/
LOCATION:Espace de Quartier Pâquis\, rue Jean-Charles-Amat 6\, Geneve\, 1200\, Switzerland
CATEGORIES:VR
ATTACH;FMTTYPE=image/png:https://preprod.parkinsonvrmove.ch/wp-content/uploads/2026/03/cropped-cropped-250713-Favicon-96x96-1-1.png
END:VEVENT
BEGIN:VEVENT
DTSTART;TZID=Europe/Paris:20271209T100000
DTEND;TZID=Europe/Paris:20271209T170000
DTSTAMP:20260420T084557
CREATED:20260316T140035Z
LAST-MODIFIED:20260317T135542Z
UID:10000086-1828346400-1828371600@preprod.parkinsonvrmove.ch
SUMMARY:HUG  journée Parkinson
DESCRIPTION:À l’occasion de la Journée mondiale de la maladie de Parkinson\, le Service de neurologie des HUG vous convie\, en collaboration avec des personnes touchées par la maladie\, à une journée de conférences\, témoignages et ateliers.
URL:https://preprod.parkinsonvrmove.ch/event/hug-journee-parkinson/2027-12-09/
LOCATION:hug\, auditoire Marcel Jenny
CATEGORIES:Evenement
ATTACH;FMTTYPE=image/png:https://preprod.parkinsonvrmove.ch/wp-content/uploads/2026/03/csm_HUG_2026_96b3f4914b.png
END:VEVENT
BEGIN:VEVENT
DTSTART;TZID=Europe/Paris:20271209T113000
DTEND;TZID=Europe/Paris:20271209T123000
DTSTAMP:20260420T084557
CREATED:20260326T083136Z
LAST-MODIFIED:20260326T083136Z
UID:10000607-1828351800-1828355400@preprod.parkinsonvrmove.ch
SUMMARY:Ping Pong CSS
DESCRIPTION:Au club CSS Chênois \, réservé aux membres
URL:https://preprod.parkinsonvrmove.ch/event/ping-pong-css-2/2027-12-09/
LOCATION:CTT UGS-Chenois\, Rte de Frontenex 68\,\, Genève\, 1207\, Switzerland
CATEGORIES:Pingpong
ATTACH;FMTTYPE=image/jpeg:https://preprod.parkinsonvrmove.ch/wp-content/uploads/2026/03/250725-Tennis-Table-for-others-1024x683-1.jpg
END:VEVENT
BEGIN:VEVENT
DTSTART;TZID=Europe/Paris:20271215T083000
DTEND;TZID=Europe/Paris:20271215T103000
DTSTAMP:20260420T084557
CREATED:20260316T135255Z
LAST-MODIFIED:20260326T083928Z
UID:10000347-1828859400-1828866600@preprod.parkinsonvrmove.ch
SUMMARY:ParkinsonVRMove
DESCRIPTION:Espace de quartier Pâquis
URL:https://preprod.parkinsonvrmove.ch/event/parkinsonvrmove/2027-12-15/
LOCATION:Espace de Quartier Pâquis\, rue Jean-Charles-Amat 6\, Geneve\, 1200\, Switzerland
CATEGORIES:VR
ATTACH;FMTTYPE=image/png:https://preprod.parkinsonvrmove.ch/wp-content/uploads/2026/03/cropped-cropped-250713-Favicon-96x96-1-1.png
END:VEVENT
BEGIN:VEVENT
DTSTART;TZID=Europe/Paris:20271216T100000
DTEND;TZID=Europe/Paris:20271216T170000
DTSTAMP:20260420T084557
CREATED:20260316T140035Z
LAST-MODIFIED:20260317T135542Z
UID:10000087-1828951200-1828976400@preprod.parkinsonvrmove.ch
SUMMARY:HUG  journée Parkinson
DESCRIPTION:À l’occasion de la Journée mondiale de la maladie de Parkinson\, le Service de neurologie des HUG vous convie\, en collaboration avec des personnes touchées par la maladie\, à une journée de conférences\, témoignages et ateliers.
URL:https://preprod.parkinsonvrmove.ch/event/hug-journee-parkinson/2027-12-16/
LOCATION:hug\, auditoire Marcel Jenny
CATEGORIES:Evenement
ATTACH;FMTTYPE=image/png:https://preprod.parkinsonvrmove.ch/wp-content/uploads/2026/03/csm_HUG_2026_96b3f4914b.png
END:VEVENT
BEGIN:VEVENT
DTSTART;TZID=Europe/Paris:20271216T113000
DTEND;TZID=Europe/Paris:20271216T123000
DTSTAMP:20260420T084557
CREATED:20260326T083136Z
LAST-MODIFIED:20260326T083136Z
UID:10000608-1828956600-1828960200@preprod.parkinsonvrmove.ch
SUMMARY:Ping Pong CSS
DESCRIPTION:Au club CSS Chênois \, réservé aux membres
URL:https://preprod.parkinsonvrmove.ch/event/ping-pong-css-2/2027-12-16/
LOCATION:CTT UGS-Chenois\, Rte de Frontenex 68\,\, Genève\, 1207\, Switzerland
CATEGORIES:Pingpong
ATTACH;FMTTYPE=image/jpeg:https://preprod.parkinsonvrmove.ch/wp-content/uploads/2026/03/250725-Tennis-Table-for-others-1024x683-1.jpg
END:VEVENT
BEGIN:VEVENT
DTSTART;TZID=Europe/Paris:20271222T083000
DTEND;TZID=Europe/Paris:20271222T103000
DTSTAMP:20260420T084557
CREATED:20260316T135255Z
LAST-MODIFIED:20260326T083928Z
UID:10000348-1829464200-1829471400@preprod.parkinsonvrmove.ch
SUMMARY:ParkinsonVRMove
DESCRIPTION:Espace de quartier Pâquis
URL:https://preprod.parkinsonvrmove.ch/event/parkinsonvrmove/2027-12-22/
LOCATION:Espace de Quartier Pâquis\, rue Jean-Charles-Amat 6\, Geneve\, 1200\, Switzerland
CATEGORIES:VR
ATTACH;FMTTYPE=image/png:https://preprod.parkinsonvrmove.ch/wp-content/uploads/2026/03/cropped-cropped-250713-Favicon-96x96-1-1.png
END:VEVENT
BEGIN:VEVENT
DTSTART;TZID=Europe/Paris:20271223T100000
DTEND;TZID=Europe/Paris:20271223T170000
DTSTAMP:20260420T084557
CREATED:20260316T140035Z
LAST-MODIFIED:20260317T135542Z
UID:10000088-1829556000-1829581200@preprod.parkinsonvrmove.ch
SUMMARY:HUG  journée Parkinson
DESCRIPTION:À l’occasion de la Journée mondiale de la maladie de Parkinson\, le Service de neurologie des HUG vous convie\, en collaboration avec des personnes touchées par la maladie\, à une journée de conférences\, témoignages et ateliers.
URL:https://preprod.parkinsonvrmove.ch/event/hug-journee-parkinson/2027-12-23/
LOCATION:hug\, auditoire Marcel Jenny
CATEGORIES:Evenement
ATTACH;FMTTYPE=image/png:https://preprod.parkinsonvrmove.ch/wp-content/uploads/2026/03/csm_HUG_2026_96b3f4914b.png
END:VEVENT
BEGIN:VEVENT
DTSTART;TZID=Europe/Paris:20271223T113000
DTEND;TZID=Europe/Paris:20271223T123000
DTSTAMP:20260420T084557
CREATED:20260326T083136Z
LAST-MODIFIED:20260326T083136Z
UID:10000609-1829561400-1829565000@preprod.parkinsonvrmove.ch
SUMMARY:Ping Pong CSS
DESCRIPTION:Au club CSS Chênois \, réservé aux membres
URL:https://preprod.parkinsonvrmove.ch/event/ping-pong-css-2/2027-12-23/
LOCATION:CTT UGS-Chenois\, Rte de Frontenex 68\,\, Genève\, 1207\, Switzerland
CATEGORIES:Pingpong
ATTACH;FMTTYPE=image/jpeg:https://preprod.parkinsonvrmove.ch/wp-content/uploads/2026/03/250725-Tennis-Table-for-others-1024x683-1.jpg
END:VEVENT
BEGIN:VEVENT
DTSTART;TZID=Europe/Paris:20271229T083000
DTEND;TZID=Europe/Paris:20271229T103000
DTSTAMP:20260420T084557
CREATED:20260316T135255Z
LAST-MODIFIED:20260326T083928Z
UID:10000349-1830069000-1830076200@preprod.parkinsonvrmove.ch
SUMMARY:ParkinsonVRMove
DESCRIPTION:Espace de quartier Pâquis
URL:https://preprod.parkinsonvrmove.ch/event/parkinsonvrmove/2027-12-29/
LOCATION:Espace de Quartier Pâquis\, rue Jean-Charles-Amat 6\, Geneve\, 1200\, Switzerland
CATEGORIES:VR
ATTACH;FMTTYPE=image/png:https://preprod.parkinsonvrmove.ch/wp-content/uploads/2026/03/cropped-cropped-250713-Favicon-96x96-1-1.png
END:VEVENT
BEGIN:VEVENT
DTSTART;TZID=Europe/Paris:20271230T100000
DTEND;TZID=Europe/Paris:20271230T170000
DTSTAMP:20260420T084557
CREATED:20260316T140035Z
LAST-MODIFIED:20260317T135542Z
UID:10000089-1830160800-1830186000@preprod.parkinsonvrmove.ch
SUMMARY:HUG  journée Parkinson
DESCRIPTION:À l’occasion de la Journée mondiale de la maladie de Parkinson\, le Service de neurologie des HUG vous convie\, en collaboration avec des personnes touchées par la maladie\, à une journée de conférences\, témoignages et ateliers.
URL:https://preprod.parkinsonvrmove.ch/event/hug-journee-parkinson/2027-12-30/
LOCATION:hug\, auditoire Marcel Jenny
CATEGORIES:Evenement
ATTACH;FMTTYPE=image/png:https://preprod.parkinsonvrmove.ch/wp-content/uploads/2026/03/csm_HUG_2026_96b3f4914b.png
END:VEVENT
BEGIN:VEVENT
DTSTART;TZID=Europe/Paris:20271230T113000
DTEND;TZID=Europe/Paris:20271230T123000
DTSTAMP:20260420T084557
CREATED:20260326T083136Z
LAST-MODIFIED:20260326T083136Z
UID:10000610-1830166200-1830169800@preprod.parkinsonvrmove.ch
SUMMARY:Ping Pong CSS
DESCRIPTION:Au club CSS Chênois \, réservé aux membres
URL:https://preprod.parkinsonvrmove.ch/event/ping-pong-css-2/2027-12-30/
LOCATION:CTT UGS-Chenois\, Rte de Frontenex 68\,\, Genève\, 1207\, Switzerland
CATEGORIES:Pingpong
ATTACH;FMTTYPE=image/jpeg:https://preprod.parkinsonvrmove.ch/wp-content/uploads/2026/03/250725-Tennis-Table-for-others-1024x683-1.jpg
END:VEVENT
END:VCALENDAR