BEGIN:VCALENDAR
VERSION:2.0
PRODID:-//ParkinsonVRmove - ECPv6.15.20//NONSGML v1.0//EN
CALSCALE:GREGORIAN
METHOD:PUBLISH
X-ORIGINAL-URL:https://preprod.parkinsonvrmove.ch
X-WR-CALDESC:Évènements pour ParkinsonVRmove
REFRESH-INTERVAL;VALUE=DURATION:PT1H
X-Robots-Tag:noindex
X-PUBLISHED-TTL:PT1H
BEGIN:VTIMEZONE
TZID:Europe/Paris
BEGIN:DAYLIGHT
TZOFFSETFROM:+0100
TZOFFSETTO:+0200
TZNAME:CEST
DTSTART:20260329T010000
END:DAYLIGHT
BEGIN:STANDARD
TZOFFSETFROM:+0200
TZOFFSETTO:+0100
TZNAME:CET
DTSTART:20261025T010000
END:STANDARD
BEGIN:DAYLIGHT
TZOFFSETFROM:+0100
TZOFFSETTO:+0200
TZNAME:CEST
DTSTART:20270328T010000
END:DAYLIGHT
BEGIN:STANDARD
TZOFFSETFROM:+0200
TZOFFSETTO:+0100
TZNAME:CET
DTSTART:20271031T010000
END:STANDARD
BEGIN:DAYLIGHT
TZOFFSETFROM:+0100
TZOFFSETTO:+0200
TZNAME:CEST
DTSTART:20280326T010000
END:DAYLIGHT
BEGIN:STANDARD
TZOFFSETFROM:+0200
TZOFFSETTO:+0100
TZNAME:CET
DTSTART:20281029T010000
END:STANDARD
END:VTIMEZONE
BEGIN:VEVENT
DTSTART;TZID=Europe/Paris:20270203T083000
DTEND;TZID=Europe/Paris:20270203T103000
DTSTAMP:20260419T151043
CREATED:20260316T135255Z
LAST-MODIFIED:20260326T083928Z
UID:10000302-1801643400-1801650600@preprod.parkinsonvrmove.ch
SUMMARY:ParkinsonVRMove
DESCRIPTION:Espace de quartier Pâquis
URL:https://preprod.parkinsonvrmove.ch/event/parkinsonvrmove/2027-02-03/
LOCATION:Espace de Quartier Pâquis\, rue Jean-Charles-Amat 6\, Geneve\, 1200\, Switzerland
CATEGORIES:VR
ATTACH;FMTTYPE=image/png:https://preprod.parkinsonvrmove.ch/wp-content/uploads/2026/03/cropped-cropped-250713-Favicon-96x96-1-1.png
END:VEVENT
BEGIN:VEVENT
DTSTART;TZID=Europe/Paris:20270204T100000
DTEND;TZID=Europe/Paris:20270204T170000
DTSTAMP:20260419T151043
CREATED:20260316T140035Z
LAST-MODIFIED:20260317T135542Z
UID:10000042-1801735200-1801760400@preprod.parkinsonvrmove.ch
SUMMARY:HUG  journée Parkinson
DESCRIPTION:À l’occasion de la Journée mondiale de la maladie de Parkinson\, le Service de neurologie des HUG vous convie\, en collaboration avec des personnes touchées par la maladie\, à une journée de conférences\, témoignages et ateliers.
URL:https://preprod.parkinsonvrmove.ch/event/hug-journee-parkinson/2027-02-04/
LOCATION:hug\, auditoire Marcel Jenny
CATEGORIES:Evenement
ATTACH;FMTTYPE=image/png:https://preprod.parkinsonvrmove.ch/wp-content/uploads/2026/03/csm_HUG_2026_96b3f4914b.png
END:VEVENT
BEGIN:VEVENT
DTSTART;TZID=Europe/Paris:20270204T113000
DTEND;TZID=Europe/Paris:20270204T123000
DTSTAMP:20260419T151043
CREATED:20260326T083136Z
LAST-MODIFIED:20260326T083136Z
UID:10000563-1801740600-1801744200@preprod.parkinsonvrmove.ch
SUMMARY:Ping Pong CSS
DESCRIPTION:Au club CSS Chênois \, réservé aux membres
URL:https://preprod.parkinsonvrmove.ch/event/ping-pong-css-2/2027-02-04/
LOCATION:CTT UGS-Chenois\, Rte de Frontenex 68\,\, Genève\, 1207\, Switzerland
CATEGORIES:Pingpong
ATTACH;FMTTYPE=image/jpeg:https://preprod.parkinsonvrmove.ch/wp-content/uploads/2026/03/250725-Tennis-Table-for-others-1024x683-1.jpg
END:VEVENT
BEGIN:VEVENT
DTSTART;TZID=Europe/Paris:20270210T083000
DTEND;TZID=Europe/Paris:20270210T103000
DTSTAMP:20260419T151043
CREATED:20260316T135255Z
LAST-MODIFIED:20260326T083928Z
UID:10000303-1802248200-1802255400@preprod.parkinsonvrmove.ch
SUMMARY:ParkinsonVRMove
DESCRIPTION:Espace de quartier Pâquis
URL:https://preprod.parkinsonvrmove.ch/event/parkinsonvrmove/2027-02-10/
LOCATION:Espace de Quartier Pâquis\, rue Jean-Charles-Amat 6\, Geneve\, 1200\, Switzerland
CATEGORIES:VR
ATTACH;FMTTYPE=image/png:https://preprod.parkinsonvrmove.ch/wp-content/uploads/2026/03/cropped-cropped-250713-Favicon-96x96-1-1.png
END:VEVENT
BEGIN:VEVENT
DTSTART;TZID=Europe/Paris:20270211T100000
DTEND;TZID=Europe/Paris:20270211T170000
DTSTAMP:20260419T151043
CREATED:20260316T140035Z
LAST-MODIFIED:20260317T135542Z
UID:10000043-1802340000-1802365200@preprod.parkinsonvrmove.ch
SUMMARY:HUG  journée Parkinson
DESCRIPTION:À l’occasion de la Journée mondiale de la maladie de Parkinson\, le Service de neurologie des HUG vous convie\, en collaboration avec des personnes touchées par la maladie\, à une journée de conférences\, témoignages et ateliers.
URL:https://preprod.parkinsonvrmove.ch/event/hug-journee-parkinson/2027-02-11/
LOCATION:hug\, auditoire Marcel Jenny
CATEGORIES:Evenement
ATTACH;FMTTYPE=image/png:https://preprod.parkinsonvrmove.ch/wp-content/uploads/2026/03/csm_HUG_2026_96b3f4914b.png
END:VEVENT
BEGIN:VEVENT
DTSTART;TZID=Europe/Paris:20270211T113000
DTEND;TZID=Europe/Paris:20270211T123000
DTSTAMP:20260419T151043
CREATED:20260326T083136Z
LAST-MODIFIED:20260326T083136Z
UID:10000564-1802345400-1802349000@preprod.parkinsonvrmove.ch
SUMMARY:Ping Pong CSS
DESCRIPTION:Au club CSS Chênois \, réservé aux membres
URL:https://preprod.parkinsonvrmove.ch/event/ping-pong-css-2/2027-02-11/
LOCATION:CTT UGS-Chenois\, Rte de Frontenex 68\,\, Genève\, 1207\, Switzerland
CATEGORIES:Pingpong
ATTACH;FMTTYPE=image/jpeg:https://preprod.parkinsonvrmove.ch/wp-content/uploads/2026/03/250725-Tennis-Table-for-others-1024x683-1.jpg
END:VEVENT
BEGIN:VEVENT
DTSTART;TZID=Europe/Paris:20270217T083000
DTEND;TZID=Europe/Paris:20270217T103000
DTSTAMP:20260419T151043
CREATED:20260316T135255Z
LAST-MODIFIED:20260326T083928Z
UID:10000304-1802853000-1802860200@preprod.parkinsonvrmove.ch
SUMMARY:ParkinsonVRMove
DESCRIPTION:Espace de quartier Pâquis
URL:https://preprod.parkinsonvrmove.ch/event/parkinsonvrmove/2027-02-17/
LOCATION:Espace de Quartier Pâquis\, rue Jean-Charles-Amat 6\, Geneve\, 1200\, Switzerland
CATEGORIES:VR
ATTACH;FMTTYPE=image/png:https://preprod.parkinsonvrmove.ch/wp-content/uploads/2026/03/cropped-cropped-250713-Favicon-96x96-1-1.png
END:VEVENT
BEGIN:VEVENT
DTSTART;TZID=Europe/Paris:20270218T100000
DTEND;TZID=Europe/Paris:20270218T170000
DTSTAMP:20260419T151043
CREATED:20260316T140035Z
LAST-MODIFIED:20260317T135542Z
UID:10000044-1802944800-1802970000@preprod.parkinsonvrmove.ch
SUMMARY:HUG  journée Parkinson
DESCRIPTION:À l’occasion de la Journée mondiale de la maladie de Parkinson\, le Service de neurologie des HUG vous convie\, en collaboration avec des personnes touchées par la maladie\, à une journée de conférences\, témoignages et ateliers.
URL:https://preprod.parkinsonvrmove.ch/event/hug-journee-parkinson/2027-02-18/
LOCATION:hug\, auditoire Marcel Jenny
CATEGORIES:Evenement
ATTACH;FMTTYPE=image/png:https://preprod.parkinsonvrmove.ch/wp-content/uploads/2026/03/csm_HUG_2026_96b3f4914b.png
END:VEVENT
BEGIN:VEVENT
DTSTART;TZID=Europe/Paris:20270218T113000
DTEND;TZID=Europe/Paris:20270218T123000
DTSTAMP:20260419T151043
CREATED:20260326T083136Z
LAST-MODIFIED:20260326T083136Z
UID:10000565-1802950200-1802953800@preprod.parkinsonvrmove.ch
SUMMARY:Ping Pong CSS
DESCRIPTION:Au club CSS Chênois \, réservé aux membres
URL:https://preprod.parkinsonvrmove.ch/event/ping-pong-css-2/2027-02-18/
LOCATION:CTT UGS-Chenois\, Rte de Frontenex 68\,\, Genève\, 1207\, Switzerland
CATEGORIES:Pingpong
ATTACH;FMTTYPE=image/jpeg:https://preprod.parkinsonvrmove.ch/wp-content/uploads/2026/03/250725-Tennis-Table-for-others-1024x683-1.jpg
END:VEVENT
BEGIN:VEVENT
DTSTART;TZID=Europe/Paris:20270224T083000
DTEND;TZID=Europe/Paris:20270224T103000
DTSTAMP:20260419T151043
CREATED:20260316T135255Z
LAST-MODIFIED:20260326T083928Z
UID:10000305-1803457800-1803465000@preprod.parkinsonvrmove.ch
SUMMARY:ParkinsonVRMove
DESCRIPTION:Espace de quartier Pâquis
URL:https://preprod.parkinsonvrmove.ch/event/parkinsonvrmove/2027-02-24/
LOCATION:Espace de Quartier Pâquis\, rue Jean-Charles-Amat 6\, Geneve\, 1200\, Switzerland
CATEGORIES:VR
ATTACH;FMTTYPE=image/png:https://preprod.parkinsonvrmove.ch/wp-content/uploads/2026/03/cropped-cropped-250713-Favicon-96x96-1-1.png
END:VEVENT
BEGIN:VEVENT
DTSTART;TZID=Europe/Paris:20270225T100000
DTEND;TZID=Europe/Paris:20270225T170000
DTSTAMP:20260419T151043
CREATED:20260316T140035Z
LAST-MODIFIED:20260317T135542Z
UID:10000045-1803549600-1803574800@preprod.parkinsonvrmove.ch
SUMMARY:HUG  journée Parkinson
DESCRIPTION:À l’occasion de la Journée mondiale de la maladie de Parkinson\, le Service de neurologie des HUG vous convie\, en collaboration avec des personnes touchées par la maladie\, à une journée de conférences\, témoignages et ateliers.
URL:https://preprod.parkinsonvrmove.ch/event/hug-journee-parkinson/2027-02-25/
LOCATION:hug\, auditoire Marcel Jenny
CATEGORIES:Evenement
ATTACH;FMTTYPE=image/png:https://preprod.parkinsonvrmove.ch/wp-content/uploads/2026/03/csm_HUG_2026_96b3f4914b.png
END:VEVENT
BEGIN:VEVENT
DTSTART;TZID=Europe/Paris:20270225T113000
DTEND;TZID=Europe/Paris:20270225T123000
DTSTAMP:20260419T151043
CREATED:20260326T083136Z
LAST-MODIFIED:20260326T083136Z
UID:10000566-1803555000-1803558600@preprod.parkinsonvrmove.ch
SUMMARY:Ping Pong CSS
DESCRIPTION:Au club CSS Chênois \, réservé aux membres
URL:https://preprod.parkinsonvrmove.ch/event/ping-pong-css-2/2027-02-25/
LOCATION:CTT UGS-Chenois\, Rte de Frontenex 68\,\, Genève\, 1207\, Switzerland
CATEGORIES:Pingpong
ATTACH;FMTTYPE=image/jpeg:https://preprod.parkinsonvrmove.ch/wp-content/uploads/2026/03/250725-Tennis-Table-for-others-1024x683-1.jpg
END:VEVENT
END:VCALENDAR