BEGIN:VCALENDAR
VERSION:2.0
PRODID:-//ParkinsonVRmove - ECPv6.15.20//NONSGML v1.0//EN
CALSCALE:GREGORIAN
METHOD:PUBLISH
X-ORIGINAL-URL:https://preprod.parkinsonvrmove.ch
X-WR-CALDESC:Évènements pour ParkinsonVRmove
REFRESH-INTERVAL;VALUE=DURATION:PT1H
X-Robots-Tag:noindex
X-PUBLISHED-TTL:PT1H
BEGIN:VTIMEZONE
TZID:Europe/Paris
BEGIN:DAYLIGHT
TZOFFSETFROM:+0100
TZOFFSETTO:+0200
TZNAME:CEST
DTSTART:20280326T010000
END:DAYLIGHT
BEGIN:STANDARD
TZOFFSETFROM:+0200
TZOFFSETTO:+0100
TZNAME:CET
DTSTART:20281029T010000
END:STANDARD
BEGIN:DAYLIGHT
TZOFFSETFROM:+0100
TZOFFSETTO:+0200
TZNAME:CEST
DTSTART:20290325T010000
END:DAYLIGHT
BEGIN:STANDARD
TZOFFSETFROM:+0200
TZOFFSETTO:+0100
TZNAME:CET
DTSTART:20291028T010000
END:STANDARD
BEGIN:DAYLIGHT
TZOFFSETFROM:+0100
TZOFFSETTO:+0200
TZNAME:CEST
DTSTART:20300331T010000
END:DAYLIGHT
BEGIN:STANDARD
TZOFFSETFROM:+0200
TZOFFSETTO:+0100
TZNAME:CET
DTSTART:20301027T010000
END:STANDARD
END:VTIMEZONE
BEGIN:VEVENT
DTSTART;TZID=Europe/Paris:20290502T083000
DTEND;TZID=Europe/Paris:20290502T103000
DTSTAMP:20260423T142333
CREATED:20260316T135255Z
LAST-MODIFIED:20260326T083928Z
UID:10000419-1872405000-1872412200@preprod.parkinsonvrmove.ch
SUMMARY:ParkinsonVRMove
DESCRIPTION:Espace de quartier Pâquis
URL:https://preprod.parkinsonvrmove.ch/event/parkinsonvrmove/2029-05-02/
LOCATION:Espace de Quartier Pâquis\, rue Jean-Charles-Amat 6\, Geneve\, 1200\, Switzerland
CATEGORIES:VR
ATTACH;FMTTYPE=image/png:https://preprod.parkinsonvrmove.ch/wp-content/uploads/2026/03/cropped-cropped-250713-Favicon-96x96-1-1.png
END:VEVENT
BEGIN:VEVENT
DTSTART;TZID=Europe/Paris:20290509T083000
DTEND;TZID=Europe/Paris:20290509T103000
DTSTAMP:20260423T142333
CREATED:20260316T135255Z
LAST-MODIFIED:20260326T083928Z
UID:10000420-1873009800-1873017000@preprod.parkinsonvrmove.ch
SUMMARY:ParkinsonVRMove
DESCRIPTION:Espace de quartier Pâquis
URL:https://preprod.parkinsonvrmove.ch/event/parkinsonvrmove/2029-05-09/
LOCATION:Espace de Quartier Pâquis\, rue Jean-Charles-Amat 6\, Geneve\, 1200\, Switzerland
CATEGORIES:VR
ATTACH;FMTTYPE=image/png:https://preprod.parkinsonvrmove.ch/wp-content/uploads/2026/03/cropped-cropped-250713-Favicon-96x96-1-1.png
END:VEVENT
BEGIN:VEVENT
DTSTART;TZID=Europe/Paris:20290516T083000
DTEND;TZID=Europe/Paris:20290516T103000
DTSTAMP:20260423T142333
CREATED:20260316T135255Z
LAST-MODIFIED:20260326T083928Z
UID:10000421-1873614600-1873621800@preprod.parkinsonvrmove.ch
SUMMARY:ParkinsonVRMove
DESCRIPTION:Espace de quartier Pâquis
URL:https://preprod.parkinsonvrmove.ch/event/parkinsonvrmove/2029-05-16/
LOCATION:Espace de Quartier Pâquis\, rue Jean-Charles-Amat 6\, Geneve\, 1200\, Switzerland
CATEGORIES:VR
ATTACH;FMTTYPE=image/png:https://preprod.parkinsonvrmove.ch/wp-content/uploads/2026/03/cropped-cropped-250713-Favicon-96x96-1-1.png
END:VEVENT
BEGIN:VEVENT
DTSTART;TZID=Europe/Paris:20290523T083000
DTEND;TZID=Europe/Paris:20290523T103000
DTSTAMP:20260423T142333
CREATED:20260316T135255Z
LAST-MODIFIED:20260326T083928Z
UID:10000422-1874219400-1874226600@preprod.parkinsonvrmove.ch
SUMMARY:ParkinsonVRMove
DESCRIPTION:Espace de quartier Pâquis
URL:https://preprod.parkinsonvrmove.ch/event/parkinsonvrmove/2029-05-23/
LOCATION:Espace de Quartier Pâquis\, rue Jean-Charles-Amat 6\, Geneve\, 1200\, Switzerland
CATEGORIES:VR
ATTACH;FMTTYPE=image/png:https://preprod.parkinsonvrmove.ch/wp-content/uploads/2026/03/cropped-cropped-250713-Favicon-96x96-1-1.png
END:VEVENT
BEGIN:VEVENT
DTSTART;TZID=Europe/Paris:20290530T083000
DTEND;TZID=Europe/Paris:20290530T103000
DTSTAMP:20260423T142333
CREATED:20260316T135255Z
LAST-MODIFIED:20260326T083928Z
UID:10000423-1874824200-1874831400@preprod.parkinsonvrmove.ch
SUMMARY:ParkinsonVRMove
DESCRIPTION:Espace de quartier Pâquis
URL:https://preprod.parkinsonvrmove.ch/event/parkinsonvrmove/2029-05-30/
LOCATION:Espace de Quartier Pâquis\, rue Jean-Charles-Amat 6\, Geneve\, 1200\, Switzerland
CATEGORIES:VR
ATTACH;FMTTYPE=image/png:https://preprod.parkinsonvrmove.ch/wp-content/uploads/2026/03/cropped-cropped-250713-Favicon-96x96-1-1.png
END:VEVENT
END:VCALENDAR