BEGIN:VCALENDAR
VERSION:2.0
PRODID:-//ParkinsonVRmove - ECPv6.15.20//NONSGML v1.0//EN
CALSCALE:GREGORIAN
METHOD:PUBLISH
X-ORIGINAL-URL:https://preprod.parkinsonvrmove.ch
X-WR-CALDESC:Évènements pour ParkinsonVRmove
REFRESH-INTERVAL;VALUE=DURATION:PT1H
X-Robots-Tag:noindex
X-PUBLISHED-TTL:PT1H
BEGIN:VTIMEZONE
TZID:Europe/Paris
BEGIN:DAYLIGHT
TZOFFSETFROM:+0100
TZOFFSETTO:+0200
TZNAME:CEST
DTSTART:20260329T010000
END:DAYLIGHT
BEGIN:STANDARD
TZOFFSETFROM:+0200
TZOFFSETTO:+0100
TZNAME:CET
DTSTART:20261025T010000
END:STANDARD
BEGIN:DAYLIGHT
TZOFFSETFROM:+0100
TZOFFSETTO:+0200
TZNAME:CEST
DTSTART:20270328T010000
END:DAYLIGHT
BEGIN:STANDARD
TZOFFSETFROM:+0200
TZOFFSETTO:+0100
TZNAME:CET
DTSTART:20271031T010000
END:STANDARD
BEGIN:DAYLIGHT
TZOFFSETFROM:+0100
TZOFFSETTO:+0200
TZNAME:CEST
DTSTART:20280326T010000
END:DAYLIGHT
BEGIN:STANDARD
TZOFFSETFROM:+0200
TZOFFSETTO:+0100
TZNAME:CET
DTSTART:20281029T010000
END:STANDARD
END:VTIMEZONE
BEGIN:VEVENT
DTSTART;TZID=Europe/Paris:20271202T113000
DTEND;TZID=Europe/Paris:20271202T123000
DTSTAMP:20260422T111447
CREATED:20260326T083136Z
LAST-MODIFIED:20260326T083136Z
UID:10000606-1827747000-1827750600@preprod.parkinsonvrmove.ch
SUMMARY:Ping Pong CSS
DESCRIPTION:Au club CSS Chênois \, réservé aux membres
URL:https://preprod.parkinsonvrmove.ch/event/ping-pong-css-2/2027-12-02/
LOCATION:CTT UGS-Chenois\, Rte de Frontenex 68\,\, Genève\, 1207\, Switzerland
CATEGORIES:Pingpong
ATTACH;FMTTYPE=image/jpeg:https://preprod.parkinsonvrmove.ch/wp-content/uploads/2026/03/250725-Tennis-Table-for-others-1024x683-1.jpg
END:VEVENT
BEGIN:VEVENT
DTSTART;TZID=Europe/Paris:20271209T113000
DTEND;TZID=Europe/Paris:20271209T123000
DTSTAMP:20260422T111447
CREATED:20260326T083136Z
LAST-MODIFIED:20260326T083136Z
UID:10000607-1828351800-1828355400@preprod.parkinsonvrmove.ch
SUMMARY:Ping Pong CSS
DESCRIPTION:Au club CSS Chênois \, réservé aux membres
URL:https://preprod.parkinsonvrmove.ch/event/ping-pong-css-2/2027-12-09/
LOCATION:CTT UGS-Chenois\, Rte de Frontenex 68\,\, Genève\, 1207\, Switzerland
CATEGORIES:Pingpong
ATTACH;FMTTYPE=image/jpeg:https://preprod.parkinsonvrmove.ch/wp-content/uploads/2026/03/250725-Tennis-Table-for-others-1024x683-1.jpg
END:VEVENT
BEGIN:VEVENT
DTSTART;TZID=Europe/Paris:20271216T113000
DTEND;TZID=Europe/Paris:20271216T123000
DTSTAMP:20260422T111447
CREATED:20260326T083136Z
LAST-MODIFIED:20260326T083136Z
UID:10000608-1828956600-1828960200@preprod.parkinsonvrmove.ch
SUMMARY:Ping Pong CSS
DESCRIPTION:Au club CSS Chênois \, réservé aux membres
URL:https://preprod.parkinsonvrmove.ch/event/ping-pong-css-2/2027-12-16/
LOCATION:CTT UGS-Chenois\, Rte de Frontenex 68\,\, Genève\, 1207\, Switzerland
CATEGORIES:Pingpong
ATTACH;FMTTYPE=image/jpeg:https://preprod.parkinsonvrmove.ch/wp-content/uploads/2026/03/250725-Tennis-Table-for-others-1024x683-1.jpg
END:VEVENT
BEGIN:VEVENT
DTSTART;TZID=Europe/Paris:20271223T113000
DTEND;TZID=Europe/Paris:20271223T123000
DTSTAMP:20260422T111447
CREATED:20260326T083136Z
LAST-MODIFIED:20260326T083136Z
UID:10000609-1829561400-1829565000@preprod.parkinsonvrmove.ch
SUMMARY:Ping Pong CSS
DESCRIPTION:Au club CSS Chênois \, réservé aux membres
URL:https://preprod.parkinsonvrmove.ch/event/ping-pong-css-2/2027-12-23/
LOCATION:CTT UGS-Chenois\, Rte de Frontenex 68\,\, Genève\, 1207\, Switzerland
CATEGORIES:Pingpong
ATTACH;FMTTYPE=image/jpeg:https://preprod.parkinsonvrmove.ch/wp-content/uploads/2026/03/250725-Tennis-Table-for-others-1024x683-1.jpg
END:VEVENT
BEGIN:VEVENT
DTSTART;TZID=Europe/Paris:20271230T113000
DTEND;TZID=Europe/Paris:20271230T123000
DTSTAMP:20260422T111447
CREATED:20260326T083136Z
LAST-MODIFIED:20260326T083136Z
UID:10000610-1830166200-1830169800@preprod.parkinsonvrmove.ch
SUMMARY:Ping Pong CSS
DESCRIPTION:Au club CSS Chênois \, réservé aux membres
URL:https://preprod.parkinsonvrmove.ch/event/ping-pong-css-2/2027-12-30/
LOCATION:CTT UGS-Chenois\, Rte de Frontenex 68\,\, Genève\, 1207\, Switzerland
CATEGORIES:Pingpong
ATTACH;FMTTYPE=image/jpeg:https://preprod.parkinsonvrmove.ch/wp-content/uploads/2026/03/250725-Tennis-Table-for-others-1024x683-1.jpg
END:VEVENT
END:VCALENDAR